BEGIN:VCALENDAR
VERSION:2.0
PRODID:-//ChamberMaster//Event Calendar 2.0//EN
METHOD:PUBLISH
X-PUBLISHED-TTL:P3D
REFRESH-INTERVAL:P3D
CALSCALE:GREGORIAN
BEGIN:VEVENT
DTSTART:20220507T140000Z
DTEND:20220507T200000Z
X-MICROSOFT-CDO-ALLDAYEVENT:FALSE
SUMMARY:Ribbon Cutting / Grand Opening for Visions Comics and Games
DESCRIPTION:Ribbon Cutting / Grand Opening for Visions Comics and Games
X-ALT-DESC;FMTTYPE=text/html:Ribbon Cutting / Grand Opening for Visions Comics and Games
LOCATION:214 Sycamore Grove Ct. Rockmart\, Ga. 30153
UID:e.631.6971
SEQUENCE:3
DTSTAMP:20260423T013021Z
URL:https://business.polkgeorgia.com/events/details/ribbon-cutting-grand-opening-for-visions-comics-and-games-6971
END:VEVENT

END:VCALENDAR
