BEGIN:VCALENDAR
VERSION:2.0
PRODID:-//ChamberMaster//Event Calendar 2.0//EN
METHOD:PUBLISH
X-PUBLISHED-TTL:P3D
REFRESH-INTERVAL:P3D
CALSCALE:GREGORIAN
BEGIN:VEVENT
DTSTART:20220119T140000Z
DTEND:20220119T150000Z
X-MICROSOFT-CDO-ALLDAYEVENT:FALSE
SUMMARY:Leaders Build Leaders\, Small Business Mentor Series
DESCRIPTION:Leaders Build Leaders\, A Small Business Mentor Series
X-ALT-DESC;FMTTYPE=text/html:Leaders Build Leaders\, A Small Business Mentor Series
LOCATION:Rockmart Public Library 316 N Piedmont Ave.\, Bldg 201 Rockmart\, Ga. 30153
UID:e.631.6956
SEQUENCE:3
DTSTAMP:20260426T042700Z
URL:https://business.polkgeorgia.com/events/details/leaders-build-leaders-small-business-mentor-series-6956
END:VEVENT

END:VCALENDAR
