BEGIN:VCALENDAR
VERSION:2.0
PRODID:-//ChamberMaster//Event Calendar 2.0//EN
METHOD:PUBLISH
X-PUBLISHED-TTL:P3D
REFRESH-INTERVAL:P3D
CALSCALE:GREGORIAN
BEGIN:VEVENT
DTSTART:20230515T170000Z
DTEND:20230515T190000Z
X-MICROSOFT-CDO-ALLDAYEVENT:FALSE
SUMMARY:Hiring Fair
DESCRIPTION:This hiring fair is open to students and adults seeking employment and to any small business or industry looking for employees! For more information\, please email or call director@polkgeorgia.com / 770-317-6380
X-ALT-DESC;FMTTYPE=text/html:This hiring fair is open to students and adults seeking employment and to any small business or industry looking for employees! For more information\, please email or call director@polkgeorgia.com / 770-317-6380
LOCATION:167 Frank Lott Drive Cedartown\, Ga. 30125
UID:e.631.7023
SEQUENCE:3
DTSTAMP:20260426T023112Z
URL:https://business.polkgeorgia.com/events/details/hiring-fair-7023
END:VEVENT

END:VCALENDAR
