BEGIN:VCALENDAR
VERSION:2.0
PRODID:-//ChamberMaster//Event Calendar 2.0//EN
METHOD:PUBLISH
X-PUBLISHED-TTL:P3D
REFRESH-INTERVAL:P3D
CALSCALE:GREGORIAN
BEGIN:VEVENT
DTSTART:20191206T170000Z
DTEND:20191206T180000Z
X-MICROSOFT-CDO-ALLDAYEVENT:FALSE
SUMMARY:Chick-Fil-A Lunch & Learn
DESCRIPTION:Join us for the December Lunch & Learn on December 6th from 12PM - 1PM at the Cedartown Welcome Center in Cedartown\, Georgia. Owner/Operator of the Rockmart Chick-Fil-A\, Zach Thomas will present a series on "The Chick-Fil-A Way" and lunch will be provided.
X-ALT-DESC;FMTTYPE=text/html:<span style="color: rgb(0\, 0\, 0)\; font-family: Arial\, Verdana\, Helvetica\, sans-serif\; font-size: 16px\; text-align: center\;">Join us for the December Lunch &amp\; Learn on December 6th from 12PM - 1PM at the Cedartown Welcome Center in Cedartown\, Georgia. Owner/Operator of the Rockmart Chick-Fil-A\, Zach Thomas will present a series on &quot\;The Chick-Fil-A Way&quot\; and lunch will be provided.</span>
LOCATION:Cedartown Welcome Center 609 S. Main Street Cedartown\, Georgia
UID:e.631.6907
SEQUENCE:3
DTSTAMP:20260420T180414Z
URL:https://business.polkgeorgia.com/events/details/chick-fil-a-lunch-learn-6907
END:VEVENT

END:VCALENDAR
