BEGIN:VCALENDAR
VERSION:2.0
PRODID:-//ChamberMaster//Event Calendar 2.0//EN
METHOD:PUBLISH
X-PUBLISHED-TTL:P3D
REFRESH-INTERVAL:P3D
CALSCALE:GREGORIAN
BEGIN:VEVENT
DTSTART:20230921T230000Z
DTEND:20230922T000000Z
X-MICROSOFT-CDO-ALLDAYEVENT:FALSE
SUMMARY:Aragon City Council Meeting
DESCRIPTION:
X-ALT-DESC;FMTTYPE=text/html:
LOCATION:Aragon City Hall 2814 Rome Hwy.\, Aragon
UID:e.631.3117
SEQUENCE:3
DTSTAMP:20260420T085719Z
URL:https://business.polkgeorgia.com/events/details/aragon-city-council-meeting-09-21-2023-3117
END:VEVENT

END:VCALENDAR
