BEGIN:VCALENDAR
VERSION:2.0
PRODID:-//ChamberMaster//Event Calendar 2.0//EN
METHOD:PUBLISH
X-PUBLISHED-TTL:P3D
REFRESH-INTERVAL:P3D
CALSCALE:GREGORIAN
BEGIN:VEVENT
DTSTART:20250327T213000Z
DTEND:20250328T000000Z
X-MICROSOFT-CDO-ALLDAYEVENT:FALSE
SUMMARY:3rd Chamber Members Annual Gala
DESCRIPTION:Please join us for the 3rd Annual Polk County Chamber Members Gala! Thank you to our Presenting Sponsors\, Atrium Health Floyd and Georgia Power. This event is to show our appreciation for our Chamber partners who are dedicated to the growth and prosperity of our community!
X-ALT-DESC;FMTTYPE=text/html:<span style="color: rgb(51\, 51\, 51)\; font-family: sans-serif\, Arial\, Verdana\, &quot\;Trebuchet MS&quot\;\; font-size: 13px\; background-color: rgb(255\, 255\, 255)\;">Please join us for the 3rd Annual Polk County Chamber Members Gala! Thank you to our Presenting Sponsors\, Atrium Health Floyd and Georgia Power. This event is to show our appreciation for our Chamber partners who are dedicated to the growth and prosperity of our community!</span>
LOCATION:In The Woods 2173 Cartersville Hwy Rockmart\, Ga. 30153
UID:e.631.7059
SEQUENCE:3
DTSTAMP:20260420T233823Z
URL:https://business.polkgeorgia.com/events/details/3rd-chamber-members-annual-gala-7059
END:VEVENT

END:VCALENDAR
